Package: normalize450K Version: 1.39.0 Maintainer: Jonathan Alexander Heiss MaintainerEmail: jonathan.heiss at posteo.de git_url: https://git.bioconductor.org/packages/normalize450K git_branch: devel git_last_commit: 62981d2 git_last_commit_date: 2025-10-29 10:29:02 -0500 (Wed, 29 Oct 2025)