Package: nondetects Version: 2.41.0 Command: /Library/Frameworks/R.framework/Resources/bin/R CMD INSTALL nondetects StartedAt: 2025-11-23 15:32:02 -0500 (Sun, 23 Nov 2025) EndedAt: 2025-11-23 15:32:06 -0500 (Sun, 23 Nov 2025) EllapsedTime: 4.1 seconds RetCode: 0 Status: OK