Package: nondetects Version: 2.41.0 Command: /Library/Frameworks/R.framework/Resources/bin/R CMD build --keep-empty-dirs --no-resave-data nondetects StartedAt: 2025-11-23 17:10:23 -0500 (Sun, 23 Nov 2025) EndedAt: 2025-11-23 17:11:08 -0500 (Sun, 23 Nov 2025) EllapsedTime: 44.5 seconds RetCode: 0 Status: OK PackageFile: nondetects_2.41.0.tar.gz PackageFileSize: 137.4 KiB