Package: nondetects Version: 2.41.0 Command: rm -rf nondetects.buildbin-libdir && mkdir nondetects.buildbin-libdir && /Users/biocbuild/BBS/utils/build-universal.sh nondetects_2.41.0.tar.gz /Library/Frameworks/R.framework/Resources/bin/R nondetects.buildbin-libdir StartedAt: 2025-11-23 23:46:46 -0500 (Sun, 23 Nov 2025) EndedAt: 2025-11-23 23:46:52 -0500 (Sun, 23 Nov 2025) EllapsedTime: 5.1 seconds RetCode: 0 Status: OK PackageFile: nondetects_2.41.0.tgz PackageFileSize: 170.5 KiB