Package: nnSVG Version: 1.15.0 Command: /home/biocbuild/bbs-3.23-bioc/R/bin/R CMD INSTALL nnSVG StartedAt: 2025-11-14 15:23:32 -0500 (Fri, 14 Nov 2025) EndedAt: 2025-11-14 15:23:54 -0500 (Fri, 14 Nov 2025) EllapsedTime: 22.1 seconds RetCode: 0 Status: OK