Package: nnSVG Version: 1.15.0 Command: /home/biocbuild/bbs-3.23-bioc/R/bin/R CMD build --keep-empty-dirs --no-resave-data nnSVG StartedAt: 2025-11-13 18:59:56 -0500 (Thu, 13 Nov 2025) EndedAt: 2025-11-13 19:05:22 -0500 (Thu, 13 Nov 2025) EllapsedTime: 325.7 seconds RetCode: 0 Status: OK PackageFile: nnSVG_1.15.0.tar.gz PackageFileSize: 1.377 MiB