Package: nnSVG Version: 1.15.0 Command: /Library/Frameworks/R.framework/Resources/bin/R CMD INSTALL nnSVG StartedAt: 2025-11-14 15:14:47 -0500 (Fri, 14 Nov 2025) EndedAt: 2025-11-14 15:14:56 -0500 (Fri, 14 Nov 2025) EllapsedTime: 9.0 seconds RetCode: 0 Status: OK