Package: nnSVG Version: 1.15.0 Command: /Library/Frameworks/R.framework/Resources/bin/R CMD build --keep-empty-dirs --no-resave-data nnSVG StartedAt: 2025-11-14 17:09:29 -0500 (Fri, 14 Nov 2025) EndedAt: 2025-11-14 17:11:56 -0500 (Fri, 14 Nov 2025) EllapsedTime: 147.7 seconds RetCode: 0 Status: OK PackageFile: nnSVG_1.15.0.tar.gz PackageFileSize: 1.546 MiB