Package: nnNorm Version: 2.75.0 Command: /Library/Frameworks/R.framework/Resources/bin/R CMD INSTALL nnNorm StartedAt: 2025-11-14 15:02:52 -0500 (Fri, 14 Nov 2025) EndedAt: 2025-11-14 15:02:57 -0500 (Fri, 14 Nov 2025) EllapsedTime: 5.4 seconds RetCode: 0 Status: OK