Package: nnNorm Version: 2.75.0 Command: /Library/Frameworks/R.framework/Resources/bin/R CMD build --keep-empty-dirs --no-resave-data nnNorm StartedAt: 2025-11-14 17:09:27 -0500 (Fri, 14 Nov 2025) EndedAt: 2025-11-14 17:09:45 -0500 (Fri, 14 Nov 2025) EllapsedTime: 18.2 seconds RetCode: 0 Status: OK PackageFile: nnNorm_2.75.0.tar.gz PackageFileSize: 1.59 MiB