Package: nnNorm Version: 2.75.0 Command: rm -rf nnNorm.buildbin-libdir && mkdir nnNorm.buildbin-libdir && /Users/biocbuild/BBS/utils/build-universal.sh nnNorm_2.75.0.tar.gz /Library/Frameworks/R.framework/Resources/bin/R nnNorm.buildbin-libdir StartedAt: 2025-11-14 23:43:43 -0500 (Fri, 14 Nov 2025) EndedAt: 2025-11-14 23:43:45 -0500 (Fri, 14 Nov 2025) EllapsedTime: 2.0 seconds RetCode: 0 Status: OK PackageFile: nnNorm_2.75.0.tgz PackageFileSize: 196.6 KiB