Package: nipalsMCIA Version: 1.9.0 Command: /Library/Frameworks/R.framework/Resources/bin/R CMD INSTALL nipalsMCIA StartedAt: 2025-11-13 15:13:12 -0500 (Thu, 13 Nov 2025) EndedAt: 2025-11-13 15:13:22 -0500 (Thu, 13 Nov 2025) EllapsedTime: 10.5 seconds RetCode: 0 Status: OK