Package: nipalsMCIA Version: 1.9.0 Command: /Library/Frameworks/R.framework/Resources/bin/R CMD check --install=check:nipalsMCIA.install-out.txt --library=/Library/Frameworks/R.framework/Resources/library --no-vignettes --timings nipalsMCIA_1.9.0.tar.gz StartedAt: 2025-11-13 21:26:28 -0500 (Thu, 13 Nov 2025) EndedAt: 2025-11-13 21:28:41 -0500 (Thu, 13 Nov 2025) EllapsedTime: 132.6 seconds RetCode: 0 Status: OK CheckDir: nipalsMCIA.Rcheck Warnings: 0