Package: nipalsMCIA Version: 1.9.0 Command: rm -rf nipalsMCIA.buildbin-libdir && mkdir nipalsMCIA.buildbin-libdir && /Users/biocbuild/BBS/utils/build-universal.sh nipalsMCIA_1.9.0.tar.gz /Library/Frameworks/R.framework/Resources/bin/R nipalsMCIA.buildbin-libdir StartedAt: 2025-11-12 21:04:44 -0500 (Wed, 12 Nov 2025) EndedAt: 2025-11-12 21:04:57 -0500 (Wed, 12 Nov 2025) EllapsedTime: 13.3 seconds RetCode: 0 Status: OK PackageFile: nipalsMCIA_1.9.0.tgz PackageFileSize: 4.01 MiB