Package: netresponse Version: 1.71.0 Command: /Library/Frameworks/R.framework/Resources/bin/R CMD INSTALL netresponse StartedAt: 2025-11-12 15:33:42 -0500 (Wed, 12 Nov 2025) EndedAt: 2025-11-12 15:33:47 -0500 (Wed, 12 Nov 2025) EllapsedTime: 4.9 seconds RetCode: 0 Status: OK