Package: netresponse Version: 1.71.0 Command: /Library/Frameworks/R.framework/Resources/bin/R CMD build --keep-empty-dirs --no-resave-data netresponse StartedAt: 2025-11-12 16:49:46 -0500 (Wed, 12 Nov 2025) EndedAt: 2025-11-12 16:49:53 -0500 (Wed, 12 Nov 2025) EllapsedTime: 7.1 seconds RetCode: 0 Status: OK PackageFile: netresponse_1.71.0.tar.gz PackageFileSize: 975.5 KiB