Package: netresponse Version: 1.71.0 Command: rm -rf netresponse.buildbin-libdir && mkdir netresponse.buildbin-libdir && /Users/biocbuild/BBS/utils/build-universal.sh netresponse_1.71.0.tar.gz /Library/Frameworks/R.framework/Resources/bin/R netresponse.buildbin-libdir StartedAt: 2025-11-13 23:48:31 -0500 (Thu, 13 Nov 2025) EndedAt: 2025-11-13 23:48:39 -0500 (Thu, 13 Nov 2025) EllapsedTime: 7.2 seconds RetCode: 0 Status: OK PackageFile: netresponse_1.71.0.tgz PackageFileSize: 1.293 MiB