Package: netresponse Version: 1.71.0 Maintainer: Leo Lahti MaintainerEmail: leo.lahti at iki.fi git_url: https://git.bioconductor.org/packages/netresponse git_branch: devel git_last_commit: 8295054 git_last_commit_date: 2025-10-29 10:05:48 -0500 (Wed, 29 Oct 2025)