Package: netprioR Version: 1.37.0 Command: /home/biocbuild/bbs-3.23-bioc/R/bin/R CMD build --keep-empty-dirs --no-resave-data netprioR StartedAt: 2025-11-13 18:59:07 -0500 (Thu, 13 Nov 2025) EndedAt: 2025-11-13 18:59:40 -0500 (Thu, 13 Nov 2025) EllapsedTime: 33.0 seconds RetCode: 0 Status: OK PackageFile: netprioR_1.37.0.tar.gz PackageFileSize: 647.1 KiB