Package: netprioR Version: 1.37.0 Command: /Library/Frameworks/R.framework/Resources/bin/R CMD INSTALL netprioR StartedAt: 2025-11-14 15:05:33 -0500 (Fri, 14 Nov 2025) EndedAt: 2025-11-14 15:05:37 -0500 (Fri, 14 Nov 2025) EllapsedTime: 3.7 seconds RetCode: 0 Status: OK