Package: netprioR Version: 1.37.0 Command: /Library/Frameworks/R.framework/Resources/bin/R CMD build --keep-empty-dirs --no-resave-data netprioR StartedAt: 2025-11-14 17:09:09 -0500 (Fri, 14 Nov 2025) EndedAt: 2025-11-14 17:09:27 -0500 (Fri, 14 Nov 2025) EllapsedTime: 18.2 seconds RetCode: 0 Status: OK PackageFile: netprioR_1.37.0.tar.gz PackageFileSize: 547 KiB