Package: netprioR Version: 1.37.0 Maintainer: Fabian Schmich MaintainerEmail: fabian.schmich at bsse.ethz.ch git_url: https://git.bioconductor.org/packages/netprioR git_branch: devel git_last_commit: d000a44 git_last_commit_date: 2025-10-29 10:32:31 -0500 (Wed, 29 Oct 2025)