Package: nethet Version: 1.43.0 Command: /Library/Frameworks/R.framework/Resources/bin/R CMD INSTALL nethet StartedAt: 2025-11-13 15:10:21 -0500 (Thu, 13 Nov 2025) EndedAt: 2025-11-13 15:10:27 -0500 (Thu, 13 Nov 2025) EllapsedTime: 6.0 seconds RetCode: 0 Status: OK