Package: nethet Version: 1.43.0 Command: /Library/Frameworks/R.framework/Resources/bin/R CMD build --keep-empty-dirs --no-resave-data nethet StartedAt: 2025-11-13 17:12:00 -0500 (Thu, 13 Nov 2025) EndedAt: 2025-11-13 17:13:42 -0500 (Thu, 13 Nov 2025) EllapsedTime: 102.2 seconds RetCode: 0 Status: OK PackageFile: nethet_1.43.0.tar.gz PackageFileSize: 704.9 KiB