Package: netboost Version: 2.19.0 Command: /home/biocbuild/bbs-3.23-bioc/R/bin/R CMD INSTALL netboost StartedAt: 2025-11-13 15:45:55 -0500 (Thu, 13 Nov 2025) EndedAt: 2025-11-13 15:46:41 -0500 (Thu, 13 Nov 2025) EllapsedTime: 47.0 seconds RetCode: 0 Status: OK