Package: netboost Version: 2.19.0 Command: /home/biocbuild/bbs-3.23-bioc/R/bin/R CMD check --install=check:netboost.install-out.txt --library=/home/biocbuild/bbs-3.23-bioc/R/site-library --timings netboost_2.19.0.tar.gz StartedAt: 2025-11-14 02:02:37 -0500 (Fri, 14 Nov 2025) EndedAt: 2025-11-14 02:05:51 -0500 (Fri, 14 Nov 2025) EllapsedTime: 194.3 seconds RetCode: 0 Status: WARNINGS CheckDir: netboost.Rcheck Warnings: 1