Package: netboost Version: 2.19.0 Command: /Library/Frameworks/R.framework/Resources/bin/R CMD check --install=check:netboost.install-out.txt --library=/Library/Frameworks/R.framework/Resources/library --no-vignettes --timings netboost_2.19.0.tar.gz StartedAt: 2025-11-12 19:38:43 -0500 (Wed, 12 Nov 2025) EndedAt: 2025-11-12 19:40:06 -0500 (Wed, 12 Nov 2025) EllapsedTime: 83.0 seconds RetCode: 0 Status: WARNINGS CheckDir: netboost.Rcheck Warnings: 1