Package: netboost Version: 2.19.0 Command: /Library/Frameworks/R.framework/Resources/bin/R CMD build --keep-empty-dirs --no-resave-data netboost StartedAt: 2025-11-12 16:49:24 -0500 (Wed, 12 Nov 2025) EndedAt: 2025-11-12 16:49:50 -0500 (Wed, 12 Nov 2025) EllapsedTime: 25.3 seconds RetCode: 0 Status: OK PackageFile: netboost_2.19.0.tar.gz PackageFileSize: 1.133 MiB