Package: netboost Version: 2.19.0 Command: rm -rf netboost.buildbin-libdir && mkdir netboost.buildbin-libdir && /Users/biocbuild/BBS/utils/build-universal.sh netboost_2.19.0.tar.gz /Library/Frameworks/R.framework/Resources/bin/R netboost.buildbin-libdir StartedAt: 2025-11-12 21:04:36 -0500 (Wed, 12 Nov 2025) EndedAt: 2025-11-12 21:04:59 -0500 (Wed, 12 Nov 2025) EllapsedTime: 22.5 seconds RetCode: 0 Status: OK PackageFile: netboost_2.19.0.tgz PackageFileSize: 1.116 MiB