Package: netZooR Version: 1.13.23 Command: /home/biocbuild/bbs-3.23-bioc/R/bin/R CMD INSTALL netZooR StartedAt: 2025-10-22 21:52:45 -0000 (Wed, 22 Oct 2025) EndedAt: 2025-10-22 21:52:48 -0000 (Wed, 22 Oct 2025) EllapsedTime: 2.2 seconds RetCode: 1 Status: ERROR