############################################################################## ############################################################################## ### ### Running command: ### ### /home/biocbuild/bbs-3.23-bioc/R/bin/R CMD INSTALL netZooR ### ############################################################################## ############################################################################## * installing to library ‘/home/biocbuild/bbs-3.23-bioc/R/site-library’ ERROR: dependencies ‘cmdstanr’, ‘GO.db’, ‘GOstats’, ‘org.Hs.eg.db’ are not available for package ‘netZooR’ Perhaps try a variation of: install.packages(c('cmdstanr', 'GO.db', 'GOstats', 'org.Hs.eg.db')) * removing ‘/home/biocbuild/bbs-3.23-bioc/R/site-library/netZooR’