Package: netZooR Version: 1.13.23 Command: /home/biocbuild/bbs-3.23-bioc/R/bin/R CMD build --keep-empty-dirs --no-resave-data netZooR StartedAt: 2025-10-22 23:50:54 -0000 (Wed, 22 Oct 2025) EndedAt: 2025-10-22 23:50:55 -0000 (Wed, 22 Oct 2025) EllapsedTime: 1.0 seconds RetCode: 1 Status: ERROR PackageFile: None PackageFileSize: NA