Package: netZooR Version: 1.13.23 Maintainer: Marouen Ben Guebila MaintainerEmail: marouen.b.guebila at gmail.com git_url: https://git.bioconductor.org/packages/netZooR git_branch: devel git_last_commit: d918f07 git_last_commit_date: 2025-10-17 09:54:25 -0400 (Fri, 17 Oct 2025)