Package: netSmooth Version: 1.31.0 Command: /home/biocbuild/bbs-3.23-bioc/R/bin/R CMD build --keep-empty-dirs --no-resave-data netSmooth StartedAt: 2025-11-11 19:04:14 -0500 (Tue, 11 Nov 2025) EndedAt: 2025-11-11 19:06:03 -0500 (Tue, 11 Nov 2025) EllapsedTime: 109.1 seconds RetCode: 0 Status: OK PackageFile: netSmooth_1.31.0.tar.gz PackageFileSize: 3.013 MiB