Package: netSmooth Version: 1.31.0 Command: /Library/Frameworks/R.framework/Resources/bin/R CMD build --keep-empty-dirs --no-resave-data netSmooth StartedAt: 2025-11-13 17:12:09 -0500 (Thu, 13 Nov 2025) EndedAt: 2025-11-13 17:12:54 -0500 (Thu, 13 Nov 2025) EllapsedTime: 44.5 seconds RetCode: 0 Status: OK PackageFile: netSmooth_1.31.0.tar.gz PackageFileSize: 3.07 MiB