Package: netSmooth Version: 1.31.0 Maintainer: Jonathan Ronen MaintainerEmail: yablee at gmail.com git_url: https://git.bioconductor.org/packages/netSmooth git_branch: devel git_last_commit: 33fddd7 git_last_commit_date: 2025-10-29 10:45:19 -0500 (Wed, 29 Oct 2025)