Package: nempi Version: 1.19.0 Command: /Library/Frameworks/R.framework/Resources/bin/R CMD INSTALL nempi StartedAt: 2025-11-14 15:09:15 -0500 (Fri, 14 Nov 2025) EndedAt: 2025-11-14 15:09:23 -0500 (Fri, 14 Nov 2025) EllapsedTime: 7.9 seconds RetCode: 0 Status: OK