Package: nempi Version: 1.19.0 Command: /Library/Frameworks/R.framework/Resources/bin/R CMD build --keep-empty-dirs --no-resave-data nempi StartedAt: 2025-11-14 17:08:49 -0500 (Fri, 14 Nov 2025) EndedAt: 2025-11-14 17:09:06 -0500 (Fri, 14 Nov 2025) EllapsedTime: 17.2 seconds RetCode: 0 Status: OK PackageFile: nempi_1.19.0.tar.gz PackageFileSize: 603.2 KiB