Package: nempi Version: 1.19.0 Command: rm -rf nempi.buildbin-libdir && mkdir nempi.buildbin-libdir && /Users/biocbuild/BBS/utils/build-universal.sh nempi_1.19.0.tar.gz /Library/Frameworks/R.framework/Resources/bin/R nempi.buildbin-libdir StartedAt: 2025-11-14 23:43:29 -0500 (Fri, 14 Nov 2025) EndedAt: 2025-11-14 23:43:37 -0500 (Fri, 14 Nov 2025) EllapsedTime: 8.1 seconds RetCode: 0 Status: OK PackageFile: nempi_1.19.0.tgz PackageFileSize: 652.5 KiB