Package: ndexr Version: 1.33.0 Command: /home/biocbuild/bbs-3.23-bioc/R/bin/R CMD build --keep-empty-dirs --no-resave-data ndexr StartedAt: 2025-11-13 18:57:54 -0500 (Thu, 13 Nov 2025) EndedAt: 2025-11-13 18:58:05 -0500 (Thu, 13 Nov 2025) EllapsedTime: 11.0 seconds RetCode: 0 Status: OK PackageFile: ndexr_1.33.0.tar.gz PackageFileSize: 946.4 KiB