Package: ndexr Version: 1.33.0 Command: /Library/Frameworks/R.framework/Resources/bin/R CMD INSTALL ndexr StartedAt: 2025-11-13 15:05:01 -0500 (Thu, 13 Nov 2025) EndedAt: 2025-11-13 15:05:02 -0500 (Thu, 13 Nov 2025) EllapsedTime: 1.3 seconds RetCode: 0 Status: OK