Package: ndexr Version: 1.33.0 Command: rm -rf ndexr.buildbin-libdir && mkdir ndexr.buildbin-libdir && /Users/biocbuild/BBS/utils/build-universal.sh ndexr_1.33.0.tar.gz /Library/Frameworks/R.framework/Resources/bin/R ndexr.buildbin-libdir StartedAt: 2025-11-13 23:48:21 -0500 (Thu, 13 Nov 2025) EndedAt: 2025-11-13 23:48:23 -0500 (Thu, 13 Nov 2025) EllapsedTime: 2.1 seconds RetCode: 0 Status: OK PackageFile: ndexr_1.33.0.tgz PackageFileSize: 620.2 KiB