Package: ndexr Version: 1.33.0 Maintainer: Florian Auer MaintainerEmail: florian.auer at informatik.uni-augsburg.de git_url: https://git.bioconductor.org/packages/ndexr git_branch: devel git_last_commit: be353bc git_last_commit_date: 2025-10-29 10:38:47 -0500 (Wed, 29 Oct 2025)