Package: ncdfFlow Version: 2.57.0 Command: /Library/Frameworks/R.framework/Resources/bin/R CMD INSTALL ncdfFlow StartedAt: 2025-11-13 15:07:24 -0500 (Thu, 13 Nov 2025) EndedAt: 2025-11-13 15:07:29 -0500 (Thu, 13 Nov 2025) EllapsedTime: 5.3 seconds RetCode: 0 Status: OK