############################################################################## ############################################################################## ### ### Running command: ### ### /Library/Frameworks/R.framework/Resources/bin/R CMD INSTALL ncdfFlow ### ############################################################################## ############################################################################## * installing to library ‘/Library/Frameworks/R.framework/Versions/4.6-arm64/Resources/library’ ERROR: dependencies ‘flowCore’, ‘Rhdf5lib’ are not available for package ‘ncdfFlow’ Perhaps try a variation of: install.packages(c('flowCore', 'Rhdf5lib')) * removing ‘/Library/Frameworks/R.framework/Versions/4.6-arm64/Resources/library/ncdfFlow’