Package: ncdfFlow Version: 2.57.0 Maintainer: Mike Jiang MaintainerEmail: mike at ozette.com git_url: https://git.bioconductor.org/packages/ncdfFlow git_branch: devel git_last_commit: 1d39b7d git_last_commit_date: 2025-10-29 10:09:38 -0500 (Wed, 29 Oct 2025)