Package: ncRNAtools Version: 1.21.0 Command: /home/biocbuild/bbs-3.23-bioc/R/bin/R CMD INSTALL ncRNAtools StartedAt: 2025-11-13 15:23:01 -0500 (Thu, 13 Nov 2025) EndedAt: 2025-11-13 15:23:11 -0500 (Thu, 13 Nov 2025) EllapsedTime: 10.6 seconds RetCode: 0 Status: OK