Package: ncRNAtools Version: 1.21.0 Command: /home/biocbuild/bbs-3.23-bioc/R/bin/R CMD build --keep-empty-dirs --no-resave-data ncRNAtools StartedAt: 2025-11-13 18:57:47 -0500 (Thu, 13 Nov 2025) EndedAt: 2025-11-13 18:58:42 -0500 (Thu, 13 Nov 2025) EllapsedTime: 55.0 seconds RetCode: 0 Status: OK PackageFile: ncRNAtools_1.21.0.tar.gz PackageFileSize: 315.9 KiB