Package: ncRNAtools Version: 1.21.0 Command: rm -rf ncRNAtools.buildbin-libdir && mkdir ncRNAtools.buildbin-libdir && /Users/biocbuild/BBS/utils/build-universal.sh ncRNAtools_1.21.0.tar.gz /Library/Frameworks/R.framework/Resources/bin/R ncRNAtools.buildbin-libdir StartedAt: 2025-11-13 23:48:20 -0500 (Thu, 13 Nov 2025) EndedAt: 2025-11-13 23:48:26 -0500 (Thu, 13 Nov 2025) EllapsedTime: 6.1 seconds RetCode: 0 Status: OK PackageFile: ncRNAtools_1.21.0.tgz PackageFileSize: 391.9 KiB