Package: ncRNAtools Version: 1.21.0 Maintainer: Lara Selles Vidal MaintainerEmail: lara.selles at oist.jp git_url: https://git.bioconductor.org/packages/ncRNAtools git_branch: devel git_last_commit: b6e3b93 git_last_commit_date: 2025-10-29 11:02:04 -0500 (Wed, 29 Oct 2025)